BEGIN:VCALENDAR
VERSION:2.0
PRODID:-//Henry Trimble Animal Shelter - ECPv6.15.19//NONSGML v1.0//EN
CALSCALE:GREGORIAN
METHOD:PUBLISH
X-ORIGINAL-URL:https://henrytrimbleanimalshelter.com
X-WR-CALDESC:Events for Henry Trimble Animal Shelter
REFRESH-INTERVAL;VALUE=DURATION:PT1H
X-Robots-Tag:noindex
X-PUBLISHED-TTL:PT1H
BEGIN:VTIMEZONE
TZID:UTC
BEGIN:STANDARD
TZOFFSETFROM:+0000
TZOFFSETTO:+0000
TZNAME:UTC
DTSTART:20240101T000000
END:STANDARD
END:VTIMEZONE
BEGIN:VEVENT
DTSTART;TZID=UTC:20250517T100000
DTEND;TZID=UTC:20250517T160000
DTSTAMP:20260421T044731
CREATED:20250505T174557Z
LAST-MODIFIED:20250505T175245Z
UID:608-1747476000-1747497600@henrytrimbleanimalshelter.com
SUMMARY:Campbellsburg Day 2025
DESCRIPTION:Come visit our tent at Campbellsburg Day!  Meet some of our adoptable pups\, learn how to volunteer or foster for Henry Trimble Animal Shelter\, donate or just stop by and say hi!
URL:https://henrytrimbleanimalshelter.com/event/campbellsburg-day-2025/
LOCATION:KY
CATEGORIES:Adoption Events
ATTACH;FMTTYPE=image/jpeg:https://henrytrimbleanimalshelter.com/wp-content/uploads/2025/05/campbellsburg.jpg
END:VEVENT
BEGIN:VEVENT
DTSTART;VALUE=DATE:20250527
DTEND;VALUE=DATE:20250528
DTSTAMP:20260421T044731
CREATED:20250429T194317Z
LAST-MODIFIED:20250429T195745Z
UID:593-1748304000-1748390399@henrytrimbleanimalshelter.com
SUMMARY:CARE-A-Van Free Spay / Neuter for Henry and Trimble County
DESCRIPTION:Free Spay/Neuter Clinic Coming May 27 – Reserve Your Spot Today! \nWe’re thrilled to announce that the Henry Trimble Animal Shelter is partnering with the Kentucky Humane Society Care-A-Van to host a FREE Spay/Neuter Clinic on Monday\, May 27! \nThis is a fantastic opportunity for pet owners in our community to access affordable\, high-quality veterinary care. Spaying and neutering not only helps reduce pet overpopulation\, but it also promotes healthier\, happier lives for your furry friends. \nImportant Details: \n\nDate: Monday\, May 27\, 2025\nLocation: 1106 Castle Hwy\, Eminence\, Ky 40019\nCost: FREE (A $35 deposit is required to reserve your appointment\, but it will be fully refunded when you show up to your appointment.)\n\nHow to Sign Up: Visit the following link to book your appointment:👉 www.kyhumane.org/services/khs-care-a-van/ \nOnce there\, click “Make Appointment Now” and follow the instructions to schedule your pet’s visit. \nAppointments are limited and will fill up fast—so don’t wait! Help us make a difference in the lives of local animals by participating in this valuable service. \nQuestions? Reach out to us or visit the Kentucky Humane Society website for more info. \nLet’s work together to keep our pets healthy and our shelters less crowded. Thank you for supporting responsible pet ownership! \n\n\n 
URL:https://henrytrimbleanimalshelter.com/event/care-a-van-free-spay-neuter-for-henry-and-trimble-county/
LOCATION:Henry County 4-H Building\, 1106 Castle Hwy\, Eminence\, KY\, 40019\, United States
CATEGORIES:Spay/Neuter Clinic
ATTACH;FMTTYPE=image/jpeg:https://henrytrimbleanimalshelter.com/wp-content/uploads/2025/04/493272384_122234034542228457_6410764140528595429_n.jpg
END:VEVENT
BEGIN:VEVENT
DTSTART;TZID=UTC:20250531T103000
DTEND;TZID=UTC:20250531T140000
DTSTAMP:20260421T044731
CREATED:20250519T150718Z
LAST-MODIFIED:20250520T150531Z
UID:628-1748687400-1748700000@henrytrimbleanimalshelter.com
SUMMARY:Tractor Supply Adoption Event
DESCRIPTION:Join us Saturday\, May 31 at 10:30  at Tractor Supply in LaGrange (📍2003 Priest Dr\, LaGrange\, KY 40031) for a special Adoption Event with Henry Trimble Animal Shelter! \nWe’ll have some of our adorable\, adoptable dogs on site and ready to meet you! Whether you’re looking to add a furry friend to your family or just want to stop by and show some love\, we’d love to see you there. \n✔️ Pet some pups\n✔️ Learn about adopting or fostering\n✔️ Ask about volunteering\n✔️ Bring a smile and maybe leave with a wagging tail! \nPlease share and help us spread the word! 🐕💛 #AdoptDontShop #HenryTrimbleAnimalShelter #AdoptionEvent #LaGrangeKY #RescueDogs \n 
URL:https://henrytrimbleanimalshelter.com/event/tractor-supply-adoption-event/
LOCATION:KY
CATEGORIES:Adoption Events
ATTACH;FMTTYPE=image/png:https://henrytrimbleanimalshelter.com/wp-content/uploads/2025/05/TractorSupply.png
END:VEVENT
END:VCALENDAR