BEGIN:VCALENDAR
VERSION:2.0
PRODID:-//Henry Trimble Animal Shelter - ECPv6.15.19//NONSGML v1.0//EN
CALSCALE:GREGORIAN
METHOD:PUBLISH
X-WR-CALNAME:Henry Trimble Animal Shelter
X-ORIGINAL-URL:https://henrytrimbleanimalshelter.com
X-WR-CALDESC:Events for Henry Trimble Animal Shelter
REFRESH-INTERVAL;VALUE=DURATION:PT1H
X-Robots-Tag:noindex
X-PUBLISHED-TTL:PT1H
BEGIN:VTIMEZONE
TZID:UTC
BEGIN:STANDARD
TZOFFSETFROM:+0000
TZOFFSETTO:+0000
TZNAME:UTC
DTSTART:20240101T000000
END:STANDARD
END:VTIMEZONE
BEGIN:VEVENT
DTSTART;TZID=UTC:20250802T100000
DTEND;TZID=UTC:20250802T150000
DTSTAMP:20260420T214932
CREATED:20250710T160851Z
LAST-MODIFIED:20250710T160851Z
UID:679-1754128800-1754146800@henrytrimbleanimalshelter.com
SUMMARY:Community Appreciation Day - August 2
DESCRIPTION:Save the date!  Join us on Saturday\, August 2nd for Community Appreciation Day — a special celebration to thank YOU\, our amazing community\, for everything you’ve done to support our shelter this past year. Whether you donated\, volunteered\, adopted\, fostered\, or simply shared our posts\, your kindness makes a difference — and we couldn’t do it without you!  Stay tuned for more info to come!
URL:https://henrytrimbleanimalshelter.com/event/community-appreciation-day-august-2/
LOCATION:Henry Trimble Animal Shelter\, 9213 Sulphur Road\, Sulphur\, KY\, 40070\, United States
CATEGORIES:Adoption Events,Fundraisers
ATTACH;FMTTYPE=image/png:https://henrytrimbleanimalshelter.com/wp-content/uploads/2025/07/CAD-event-cover.png
ORGANIZER;CN="HTAS":MAILTO:thshelter@yahoo.com
END:VEVENT
BEGIN:VEVENT
DTSTART;TZID=UTC:20250726T090000
DTEND;TZID=UTC:20250726T150000
DTSTAMP:20260420T214932
CREATED:20250718T204815Z
LAST-MODIFIED:20250718T204815Z
UID:688-1753520400-1753542000@henrytrimbleanimalshelter.com
SUMMARY:Visit Our Booth at the Henry County Harvest Showcase
DESCRIPTION:🐾 Come see us at the Henry County Harvest Showcase! 🐾 \nHenry Trimble Animal Shelter will be there with some of our adorable\, adoptable dogs — and we’d love to meet you! \n📅 Saturday\, July 26🕘 9 AM – 3 PM📍 Henry County Fairgrounds🎟️ Free admission and parking \nStop by our booth to:🐶 Meet dogs looking for forever homes🏡 Learn how to foster🚗 Sign up for a Doggie Day Out❤️ Find out how to volunteer\, adopt\, or donate \nWhether you’re ready to add a new furry friend to your family or just want to learn how to support your local shelter\, we’d love to chat. See you there!
URL:https://henrytrimbleanimalshelter.com/event/visit-our-booth-at-the-henry-county-harvest-showcase/
LOCATION:Henry County Fairgrounds\, 1106 Castle Hwy\, Eminence\, KY\, 40019\, United States
CATEGORIES:Adoption Events
ATTACH;FMTTYPE=image/png:https://henrytrimbleanimalshelter.com/wp-content/uploads/2025/07/Henry-County-Harvest-Showcase.png
END:VEVENT
BEGIN:VEVENT
DTSTART;TZID=UTC:20250614T110000
DTEND;TZID=UTC:20250614T170000
DTSTAMP:20260420T214932
CREATED:20250520T153910Z
LAST-MODIFIED:20250520T153910Z
UID:635-1749898800-1749920400@henrytrimbleanimalshelter.com
SUMMARY:New Castle Spring Fling
DESCRIPTION:Join Us for a Day of Fun in Downtown New Castle!🗓 Saturday\, June 14🕚 11:00 AM – 5:00 PM📍 Downtown New Castle\, KY \nHenry Trimble Animal Shelter will be set up with a booth full of furry friends ready to meet their forever families! Come visit our adoptable dogs and learn how you can support local animals through volunteering\, fostering\, or donating. \nBut that’s just the beginning! The day will be packed with excitement for all ages\, including:🎉 A festive parade🚗 A classic car show🎨 Local arts and crafts vendors🚶‍♀️ The inspiring Walk for Hope🧒 A fun-filled Kids Zone🌭 Delicious food vendors🎶 Live music all day long…and so much more! \nBring the whole family—and maybe leave with a new best friend! 🐶💙
URL:https://henrytrimbleanimalshelter.com/event/new-castle-spring-fling/
LOCATION:New Castle\, Ky\, New Castle\, KY\, 40050\, United States
CATEGORIES:Adoption Events
ATTACH;FMTTYPE=image/png:https://henrytrimbleanimalshelter.com/wp-content/uploads/2025/05/New-Castle-Spring-Fling-2025.png
END:VEVENT
BEGIN:VEVENT
DTSTART;TZID=UTC:20250607T100000
DTEND;TZID=UTC:20250607T160000
DTSTAMP:20260420T214932
CREATED:20250505T175014Z
LAST-MODIFIED:20250505T175222Z
UID:613-1749290400-1749312000@henrytrimbleanimalshelter.com
SUMMARY:Smithfield Day 2025
DESCRIPTION:Come visit our tent at Smithfield Day!  Meet some of our adoptable pups\, learn how to volunteer or foster for Henry Trimble Animal Shelter\, donate or just stop by and say hi! \nSmithfield Day is a Small town festival open to the public.Parade\, entertainment\, kids zone\, food trucks\, craft vendors\, petting zoo\, meet and greet animals from the shelter\, cake walk and some good small town fun!
URL:https://henrytrimbleanimalshelter.com/event/smithfield-day-2025/
LOCATION:Smithfield\, Ky\, Smithfield\, KY\, United States
CATEGORIES:Adoption Events
ATTACH;FMTTYPE=image/jpeg:https://henrytrimbleanimalshelter.com/wp-content/uploads/2025/05/smithfield-day.jpg
END:VEVENT
BEGIN:VEVENT
DTSTART;TZID=UTC:20250531T103000
DTEND;TZID=UTC:20250531T140000
DTSTAMP:20260420T214932
CREATED:20250519T150718Z
LAST-MODIFIED:20250520T150531Z
UID:628-1748687400-1748700000@henrytrimbleanimalshelter.com
SUMMARY:Tractor Supply Adoption Event
DESCRIPTION:Join us Saturday\, May 31 at 10:30  at Tractor Supply in LaGrange (📍2003 Priest Dr\, LaGrange\, KY 40031) for a special Adoption Event with Henry Trimble Animal Shelter! \nWe’ll have some of our adorable\, adoptable dogs on site and ready to meet you! Whether you’re looking to add a furry friend to your family or just want to stop by and show some love\, we’d love to see you there. \n✔️ Pet some pups\n✔️ Learn about adopting or fostering\n✔️ Ask about volunteering\n✔️ Bring a smile and maybe leave with a wagging tail! \nPlease share and help us spread the word! 🐕💛 #AdoptDontShop #HenryTrimbleAnimalShelter #AdoptionEvent #LaGrangeKY #RescueDogs \n 
URL:https://henrytrimbleanimalshelter.com/event/tractor-supply-adoption-event/
LOCATION:KY
CATEGORIES:Adoption Events
ATTACH;FMTTYPE=image/png:https://henrytrimbleanimalshelter.com/wp-content/uploads/2025/05/TractorSupply.png
END:VEVENT
BEGIN:VEVENT
DTSTART;VALUE=DATE:20250527
DTEND;VALUE=DATE:20250528
DTSTAMP:20260420T214932
CREATED:20250429T194317Z
LAST-MODIFIED:20250429T195745Z
UID:593-1748304000-1748390399@henrytrimbleanimalshelter.com
SUMMARY:CARE-A-Van Free Spay / Neuter for Henry and Trimble County
DESCRIPTION:Free Spay/Neuter Clinic Coming May 27 – Reserve Your Spot Today! \nWe’re thrilled to announce that the Henry Trimble Animal Shelter is partnering with the Kentucky Humane Society Care-A-Van to host a FREE Spay/Neuter Clinic on Monday\, May 27! \nThis is a fantastic opportunity for pet owners in our community to access affordable\, high-quality veterinary care. Spaying and neutering not only helps reduce pet overpopulation\, but it also promotes healthier\, happier lives for your furry friends. \nImportant Details: \n\nDate: Monday\, May 27\, 2025\nLocation: 1106 Castle Hwy\, Eminence\, Ky 40019\nCost: FREE (A $35 deposit is required to reserve your appointment\, but it will be fully refunded when you show up to your appointment.)\n\nHow to Sign Up: Visit the following link to book your appointment:👉 www.kyhumane.org/services/khs-care-a-van/ \nOnce there\, click “Make Appointment Now” and follow the instructions to schedule your pet’s visit. \nAppointments are limited and will fill up fast—so don’t wait! Help us make a difference in the lives of local animals by participating in this valuable service. \nQuestions? Reach out to us or visit the Kentucky Humane Society website for more info. \nLet’s work together to keep our pets healthy and our shelters less crowded. Thank you for supporting responsible pet ownership! \n\n\n 
URL:https://henrytrimbleanimalshelter.com/event/care-a-van-free-spay-neuter-for-henry-and-trimble-county/
LOCATION:Henry County 4-H Building\, 1106 Castle Hwy\, Eminence\, KY\, 40019\, United States
CATEGORIES:Spay/Neuter Clinic
ATTACH;FMTTYPE=image/jpeg:https://henrytrimbleanimalshelter.com/wp-content/uploads/2025/04/493272384_122234034542228457_6410764140528595429_n.jpg
END:VEVENT
BEGIN:VEVENT
DTSTART;TZID=UTC:20250517T100000
DTEND;TZID=UTC:20250517T160000
DTSTAMP:20260420T214932
CREATED:20250505T174557Z
LAST-MODIFIED:20250505T175245Z
UID:608-1747476000-1747497600@henrytrimbleanimalshelter.com
SUMMARY:Campbellsburg Day 2025
DESCRIPTION:Come visit our tent at Campbellsburg Day!  Meet some of our adoptable pups\, learn how to volunteer or foster for Henry Trimble Animal Shelter\, donate or just stop by and say hi!
URL:https://henrytrimbleanimalshelter.com/event/campbellsburg-day-2025/
LOCATION:KY
CATEGORIES:Adoption Events
ATTACH;FMTTYPE=image/jpeg:https://henrytrimbleanimalshelter.com/wp-content/uploads/2025/05/campbellsburg.jpg
END:VEVENT
BEGIN:VEVENT
DTSTART;TZID=UTC:20250426T090000
DTEND;TZID=UTC:20250426T150000
DTSTAMP:20260420T214932
CREATED:20250422T152614Z
LAST-MODIFIED:20250422T155100Z
UID:551-1745658000-1745679600@henrytrimbleanimalshelter.com
SUMMARY:11th Annual Paws United Pet Expo
DESCRIPTION:Join Us at the 11th Annual Paws United Pet Expo!Raising Awareness for Animal Rescues & Shelters📅 Saturday\, April 26\, 9 AM – 3 PM📍 2855 Centennial Ave\, Radcliff\, KY 40160 \nGet ready for a tail-wagging good time! The 11th Annual Paws United Pet Expo is right around the corner\, and it’s a must-attend event for pet lovers of all ages. This fun-filled day is all about raising awareness for local animal rescues and shelters\, and celebrating the amazing bond between pets and people. \n🐾 What to Expect:\nAdopt a Pet: Meet adoptable animals from local shelters—including a few furry friends from Henry Trimble Animal Shelter! We’ll be there with a couple of our dogs looking for loving homes and some special fundraiser items to support our shelter. \nLearn & Support: Discover how rescue organizations make a difference\, learn how you can help\, and shop from a variety of vendors supporting animal welfare. \nPets Welcome: Bring your leashed pets along for the fun—this event is pet-friendly and perfect for the whole family! \n🎉 Event Highlights:\nLive Demos: \n\nPet Agility Showcases\nK9 Unit Demo by Officer Payton Payne of the Elizabethtown Police Department\n“What Adopted Dogs Need” & Basic Skills Training with Bluegrass Pawsitive Dawg Training\nIntro to Rally and Obedience with trainer Rebecca Otjen\n\nRabies Clinic On-Site:Hosted by Hardin County Animal Care and Control from 10 AM – 2 PM for both dogs and cats. (Cash or check only) \nDerby Pet Parade 🐎🎩Dress your pet in their best Derby attire and join the fun!🕣 Registration begins at 8:30 AM🏁 Parade kicks off at 9 AM🏆 Awards announced at 10 AMPrize Categories: \n\nBest Pet/Owner Derby Duo\nBest Pet Derby Hat\nBest Pet Derby Outfit\n\nMeet Lisha the Pet WhispererBring your pet—or a photo—to get a special message from Lisha\, the gifted Pet Whisperer! \n\nWhether you’re looking to adopt a new best friend\, learn more about the rescue world\, or just have a great day out with your pet\, the Paws United Pet Expo is the place to be. Let’s make this the best year yet—see you there! \n🐶🐱 Henry Trimble Animal Shelter💙 Supporting pets in Henry & Trimble Counties🛍️ Don’t forget to stop by our booth and say hi!
URL:https://henrytrimbleanimalshelter.com/event/timely-all-in-one-events-calendar/
LOCATION:Southland Bingo Hall\, 2855 Centennial Ave\, Radcliff\, KY\, 40160\, United States
ATTACH;FMTTYPE=image/jpeg:https://henrytrimbleanimalshelter.com/wp-content/uploads/2025/04/6bb0f53f-9241-4359-8d77-423bbcc72b842.jpeg
END:VEVENT
BEGIN:VEVENT
DTSTART;TZID=UTC:20250419T120000
DTEND;TZID=UTC:20250419T140000
DTSTAMP:20260420T214932
CREATED:20250422T154744Z
LAST-MODIFIED:20250422T154839Z
UID:571-1745064000-1745071200@henrytrimbleanimalshelter.com
SUMMARY:Adoption Event: Tractor Supply in LaGrange\, Ky
DESCRIPTION:🐾 Meet Your New Best Friend! 🐶❤️ \nJoin us this Saturday\, April 19th from 12–2 PM at Tractor Supply in LaGrange (📍2003 Priest Dr\, LaGrange\, KY 40031) for a special Adoption Event with Henry Trimble Animal Shelter! \nWe’ll have some of our adorable\, adoptable dogs on site and ready to meet you! Whether you’re looking to add a furry friend to your family or just want to stop by and show some love\, we’d love to see you there. \n✔️ Pet some pups✔️ Learn about adopting or fostering✔️ Ask about volunteering✔️ Bring a smile and maybe leave with a wagging tail! \nPlease share and help us spread the word! 🐕💛#AdoptDontShop #HenryTrimbleAnimalShelter #AdoptionEvent #LaGrangeKY #RescueDogs
URL:https://henrytrimbleanimalshelter.com/event/adoption-event-tractor-supply-in-lagrange-ky/
LOCATION:Tractor Supply\, 2003 Priest Dr\, LaGrange\, KY\, 40031\, United States
CATEGORIES:Adoption Events
ATTACH;FMTTYPE=image/jpeg:https://henrytrimbleanimalshelter.com/wp-content/uploads/2025/04/490269311_10235070689723863_24749353275857482_n.jpg
END:VEVENT
BEGIN:VEVENT
DTSTART;TZID=UTC:20250412T120000
DTEND;TZID=UTC:20250412T160000
DTSTAMP:20260420T214932
CREATED:20250422T155415Z
LAST-MODIFIED:20250422T155459Z
UID:578-1744459200-1744473600@henrytrimbleanimalshelter.com
SUMMARY:Easter Eggstravaganza
DESCRIPTION:🐣🐶 Easter Eggstravaganza Adoption Event! 🐾🌷 \nHop on over for a day of family fun and furry friends at Malins Red Barn! 🐰💐 Henry Trimble Animal Shelter will be onsite with adorable\, adoptable dogs looking for their forever homes! ❤️🏡 \n📅 Saturday\, April 12⏰ 12:00 – 4:00 PM📍 Malins Red Barn & Family Farm🎟 $10/person – Kids under 5 FREE! \nEnjoy an egg-citing lineup of activities:🎡 Bounce Houses & Carnival Rides🐾 Petting Zoo & Goat Kissing🎉 Farm-Friendly Games & Easter Egg Hunt🚂 Train Rides & Giant Slide📸 Photo Ops with the Easter Bunny & More! \nBring the whole family\, have a blast\, and maybe meet your new best friend! 🐶💖 We can’t wait to see you there! \n📢 Spread the word & share this post! 🐾🐾
URL:https://henrytrimbleanimalshelter.com/event/easter-eggstravaganza/
LOCATION:Malin’s Red Barn & Family Farm\, 352 Lacie Rd\, Turners Station\, KY\, 40075\, United States
CATEGORIES:Adoption Events
ATTACH;FMTTYPE=image/jpeg:https://henrytrimbleanimalshelter.com/wp-content/uploads/2025/03/485994973_122223205700228457_2871510218950791937_n.jpg
END:VEVENT
BEGIN:VEVENT
DTSTART;TZID=UTC:20250322T110000
DTEND;TZID=UTC:20250322T140000
DTSTAMP:20260420T214932
CREATED:20250422T155709Z
LAST-MODIFIED:20250422T155738Z
UID:589-1742641200-1742652000@henrytrimbleanimalshelter.com
SUMMARY:Spring Adoption Event
DESCRIPTION:🐶🐾 Dog Adoption Event! 🐾🐶 \n📅 Saturday\, March 22\n⏰ 11 AM – 2 PM\n📍 110 S Second Street\, La Grange\, Kentucky \nCome meet some of our lovable shelter dogs looking for their forever homes! 🏡💛 We’ll have a few of our adoptable pups on-site\, ready for cuddles and meet-and-greets. \n🐕 Adoptions are check or cash only\n🛍️ Dog accessories for sale – all proceeds support the shelter\n🎁 Accepting donations to help our furry friends \nStop by\, say hello\, and help us give these wonderful dogs the second chance they deserve! 🐾💙 #AdoptDontShop #SupportShelterDogs
URL:https://henrytrimbleanimalshelter.com/event/spring-adoption-event/
LOCATION:City Place\,  110 S Second Street\, LaGrange\, KY\, 40031\, United States
ATTACH;FMTTYPE=image/png:https://henrytrimbleanimalshelter.com/wp-content/uploads/2025/02/Black-and-White-Photo-Collage-Instagram-Post.png
END:VEVENT
END:VCALENDAR