BEGIN:VCALENDAR
VERSION:2.0
PRODID:-//Henry Trimble Animal Shelter - ECPv6.15.19//NONSGML v1.0//EN
CALSCALE:GREGORIAN
METHOD:PUBLISH
X-WR-CALNAME:Henry Trimble Animal Shelter
X-ORIGINAL-URL:https://henrytrimbleanimalshelter.com
X-WR-CALDESC:Events for Henry Trimble Animal Shelter
REFRESH-INTERVAL;VALUE=DURATION:PT1H
X-Robots-Tag:noindex
X-PUBLISHED-TTL:PT1H
BEGIN:VTIMEZONE
TZID:UTC
BEGIN:STANDARD
TZOFFSETFROM:+0000
TZOFFSETTO:+0000
TZNAME:UTC
DTSTART:20240101T000000
END:STANDARD
END:VTIMEZONE
BEGIN:VEVENT
DTSTART;TZID=UTC:20250322T110000
DTEND;TZID=UTC:20250322T140000
DTSTAMP:20260421T045540
CREATED:20250422T155709Z
LAST-MODIFIED:20250422T155738Z
UID:589-1742641200-1742652000@henrytrimbleanimalshelter.com
SUMMARY:Spring Adoption Event
DESCRIPTION:🐶🐾 Dog Adoption Event! 🐾🐶 \n📅 Saturday\, March 22\n⏰ 11 AM – 2 PM\n📍 110 S Second Street\, La Grange\, Kentucky \nCome meet some of our lovable shelter dogs looking for their forever homes! 🏡💛 We’ll have a few of our adoptable pups on-site\, ready for cuddles and meet-and-greets. \n🐕 Adoptions are check or cash only\n🛍️ Dog accessories for sale – all proceeds support the shelter\n🎁 Accepting donations to help our furry friends \nStop by\, say hello\, and help us give these wonderful dogs the second chance they deserve! 🐾💙 #AdoptDontShop #SupportShelterDogs
URL:https://henrytrimbleanimalshelter.com/event/spring-adoption-event/
LOCATION:City Place\,  110 S Second Street\, LaGrange\, KY\, 40031\, United States
ATTACH;FMTTYPE=image/png:https://henrytrimbleanimalshelter.com/wp-content/uploads/2025/02/Black-and-White-Photo-Collage-Instagram-Post.png
END:VEVENT
END:VCALENDAR