BEGIN:VCALENDAR
VERSION:2.0
PRODID:-//Henry Trimble Animal Shelter - ECPv6.15.19//NONSGML v1.0//EN
CALSCALE:GREGORIAN
METHOD:PUBLISH
X-ORIGINAL-URL:https://henrytrimbleanimalshelter.com
X-WR-CALDESC:Events for Henry Trimble Animal Shelter
REFRESH-INTERVAL;VALUE=DURATION:PT1H
X-Robots-Tag:noindex
X-PUBLISHED-TTL:PT1H
BEGIN:VTIMEZONE
TZID:UTC
BEGIN:STANDARD
TZOFFSETFROM:+0000
TZOFFSETTO:+0000
TZNAME:UTC
DTSTART:20240101T000000
END:STANDARD
END:VTIMEZONE
BEGIN:VEVENT
DTSTART;TZID=UTC:20251126T170000
DTEND;TZID=UTC:20251126T190000
DTSTAMP:20260420T215941
CREATED:20251029T143413Z
LAST-MODIFIED:20251029T143413Z
UID:821-1764176400-1764183600@henrytrimbleanimalshelter.com
SUMMARY:Thanksgiving for the Shelter Dogs
DESCRIPTION:Come out and help make Thankgiving special for our homeless fur babies. Donations needed.\n● Bonesless Chicken breasts\n● Bacon\n● Green Beans\n●Whipped Cream\n●Pumpkin Pie\n●Sweet Potatoes\nWe have 22 dogs currently so the supplies needed are greater than last year.\nThank you everyone as always for your support.
URL:https://henrytrimbleanimalshelter.com/event/thanksgiving-for-the-shelter-dogs/
LOCATION:Henry Trimble Animal Shelter\, 9213 Sulphur Road\, Sulphur\, KY\, 40070\, United States
ATTACH;FMTTYPE=image/jpeg:https://henrytrimbleanimalshelter.com/wp-content/uploads/2025/10/571339422_1399784792147532_3761795909171858922_n.jpg
END:VEVENT
BEGIN:VEVENT
DTSTART;TZID=UTC:20251214T100000
DTEND;TZID=UTC:20251214T140000
DTSTAMP:20260420T215941
CREATED:20251205T171130Z
LAST-MODIFIED:20251210T172223Z
UID:846-1765706400-1765720800@henrytrimbleanimalshelter.com
SUMMARY:Adoption Event at Tractor Supply
DESCRIPTION:Join us Saturday\, December 14 at 10:00  at Tractor Supply in LaGrange (📍2003 Priest Dr\, LaGrange\, KY 40031) for a special Adoption Event with Henry Trimble Animal Shelter! \nWe’ll have some of our adorable\, adoptable dogs on site and ready to meet you! Whether you’re looking to add a furry friend to your family or just want to stop by and show some love\, we’d love to see you there. \n✔️ Pet some pups\n✔️ Learn about adopting or fostering\n✔️ Ask about volunteering\n✔️ Bring a smile and maybe leave with a wagging tail! \nPlease share and help us spread the word! 🐕💛 #AdoptDontShop #HenryTrimbleAnimalShelter #AdoptionEvent #LaGrangeKY #RescueDogs
URL:https://henrytrimbleanimalshelter.com/event/adoption-event-at-tractor-supply/
LOCATION:Tractor Supply\, 2003 Priest Dr\, LaGrange\, KY\, 40031\, United States
CATEGORIES:Adoption Events
ATTACH;FMTTYPE=image/png:https://henrytrimbleanimalshelter.com/wp-content/uploads/2025/12/Adoption-Event-1080-x-1350-px.png
END:VEVENT
BEGIN:VEVENT
DTSTART;TZID=UTC:20251223T170000
DTEND;TZID=UTC:20251223T190000
DTSTAMP:20260420T215941
CREATED:20251217T171952Z
LAST-MODIFIED:20251217T171952Z
UID:860-1766509200-1766516400@henrytrimbleanimalshelter.com
SUMMARY:Christmas Dinner for the Dogs
DESCRIPTION:Come on out and help make Christmas special for our shelter pups! We will serve all the dogs dinner & dessert. If you want to buy a pup a gift\, bring it with you. We currently have 18 residents. Hope to see you\, one and all. Merry Christmas from all of us at the Henry Trimble Animal Shelter we are thankful for all of you who help make our pups feel loved.
URL:https://henrytrimbleanimalshelter.com/event/christmas-dinner-for-the-dogs/
LOCATION:Henry Trimble Animal Shelter\, 9213 Sulphur Road\, Sulphur\, KY\, 40070\, United States
CATEGORIES:Adoption Events
ATTACH;FMTTYPE=image/jpeg:https://henrytrimbleanimalshelter.com/wp-content/uploads/2025/12/600966312_122284210694228457_1482819026628416137_n.jpg
ORGANIZER;CN="HTAS":MAILTO:thshelter@yahoo.com
END:VEVENT
BEGIN:VEVENT
DTSTART;VALUE=DATE:20260324
DTEND;VALUE=DATE:20260325
DTSTAMP:20260420T215941
CREATED:20260220T180027Z
LAST-MODIFIED:20260220T180415Z
UID:875-1774310400-1774396799@henrytrimbleanimalshelter.com
SUMMARY:Cat CARE-a-Van
DESCRIPTION:FREE Cat Spay/Neuter Surgeries for Henry and Trimble County Residents\n\nLocation:\nHenry County 4-H Building\n1106 Castle Hwy\nEminence\, Ky 40019 \nWhen:\nTuesday\, March 24th \nSignup Here:\nhttp://www.kyhumane.org/services/khs-care-a-van \nAppointments are required.  $25 REFUNDABLE deposit due at booking.  Will be refunded the day of surgery.  No shows will not be refunded.  Cats must be at least 8 weeks old and 2 lb or more. \n 
URL:https://henrytrimbleanimalshelter.com/event/cat-care-a-van/
LOCATION:Henry County 4-H Building\, 1106 Castle Hwy\, Eminence\, KY\, 40019\, United States
CATEGORIES:Health Clinics
ATTACH;FMTTYPE=image/jpeg:https://henrytrimbleanimalshelter.com/wp-content/uploads/2026/02/637002404_122297211368228457_3503621651556854226_n.jpg
END:VEVENT
BEGIN:VEVENT
DTSTART;TZID=UTC:20260411T090000
DTEND;TZID=UTC:20260411T150000
DTSTAMP:20260420T215941
CREATED:20260309T182314Z
LAST-MODIFIED:20260309T182326Z
UID:883-1775898000-1775919600@henrytrimbleanimalshelter.com
SUMMARY:Paws United Pet Expo
DESCRIPTION:We have been invited once again to participate in the 12th Annual Paws United Pet Expo!\nWhen: April 22\, 2026 – 9am – 3pm\nLocation: 2855 Centennial Ave\, Radcliff\, Ky 40160\nCost of Entry: Donation of your choice: Food\, litter\, money\, etc. \nWe will be onsite with some of our adoptable dogs as well as some fun handmade items benefiting our shelter.   Come out and visit all the wonderful booths and stop by ours to say hello and love on some of our dogs!
URL:https://henrytrimbleanimalshelter.com/event/paws-united-pet-expo/
LOCATION:Southland Bingo Hall\, 2855 Centennial Ave\, Radcliff\, KY\, 40160\, United States
ATTACH;FMTTYPE=image/jpeg:https://henrytrimbleanimalshelter.com/wp-content/uploads/2026/03/e30d65cd-a64a-4b36-b4b6-6def1a90115e.jpeg
END:VEVENT
BEGIN:VEVENT
DTSTART;TZID=UTC:20260516T090000
DTEND;TZID=UTC:20260516T150000
DTSTAMP:20260420T215941
CREATED:20260218T155656Z
LAST-MODIFIED:20260218T155656Z
UID:869-1778922000-1778943600@henrytrimbleanimalshelter.com
SUMMARY:2nd Annual Car Show Benefit
DESCRIPTION:2nd Annual Car Show Benefiting Henry Trimble Animal Shelter\nRegistration 9:00am – noon.\nAwards 3:00pm \nGeneral Admission: FREE\nCost to Enter: $20 per car \n\nFirst 50 receive a dash plaque\nLive DJ\nFood Truck\n50/50 Pet Raffle\nDoor Prizes\n\nAwards\nFun Judging: One random entry pulled from the jar will win $100; One random entry pulled from the jar will win $50 \n\nBest 2000 – 2025\nBest 1980 – 1999\nBest 1960 – 1979\nBest Pre 1960\nBest Chevy\nBest Non-Ford Chevy\nBest Ford\nBest of Show
URL:https://henrytrimbleanimalshelter.com/event/2nd-annual-car-show-benefit/
LOCATION:Henry County Fairgrounds\, 1106 Castle Hwy\, Eminence\, KY\, 40019\, United States
CATEGORIES:Fundraisers
ATTACH;FMTTYPE=image/png:https://henrytrimbleanimalshelter.com/wp-content/uploads/2026/02/Copilot_20260218_105320.png
END:VEVENT
BEGIN:VEVENT
DTSTART;TZID=UTC:20260822T120000
DTEND;TZID=UTC:20260822T170000
DTSTAMP:20260420T215941
CREATED:20260324T171200Z
LAST-MODIFIED:20260324T171200Z
UID:889-1787400000-1787418000@henrytrimbleanimalshelter.com
SUMMARY:Paws on the River
DESCRIPTION:Join us for a wonderful afternoon at Richwood on the River while supporting our local animal shelter.\n Saturday\, August 22\, 2026 12 PM – 5 PM \nHere are just a few things to look forward to: \n\n Local Artisan & Craft VendorsShop unique handmade items\, gifts\, décor\, jewelry and more from local small businesses. \n\n Support the Animal ShelterAll vendor fees help support the Henry Trimble County Shelter and the animals they care for. \n\n Live MusicEnjoy music while you browse the vendors and take in the beautiful river views. \n\n Food Trucks / Local Food VendorsGrab something delicious while spending the afternoon with friends and family. \n\n Fun GiveawaysGreat prizes and surprises throughout the event. \n\n A Beautiful Afternoon at Richwood on the RiverRelax\, shop\, support a great cause\, and enjoy one of the most beautiful river views in the area.\nWe hope you’ll join us for this special community event. 
URL:https://henrytrimbleanimalshelter.com/event/paws-on-the-river/
LOCATION:Richwood on the River\, 1233 KY-36\, Milton\, KY\, 40045\, United States
CATEGORIES:Adoption Events,Fundraisers
ATTACH;FMTTYPE=image/jpeg:https://henrytrimbleanimalshelter.com/wp-content/uploads/2026/03/paws-on-the-river.jpg
END:VEVENT
END:VCALENDAR