BEGIN:VCALENDAR
VERSION:2.0
PRODID:-//Henry Trimble Animal Shelter - ECPv6.15.19//NONSGML v1.0//EN
CALSCALE:GREGORIAN
METHOD:PUBLISH
X-WR-CALNAME:Henry Trimble Animal Shelter
X-ORIGINAL-URL:https://henrytrimbleanimalshelter.com
X-WR-CALDESC:Events for Henry Trimble Animal Shelter
REFRESH-INTERVAL;VALUE=DURATION:PT1H
X-Robots-Tag:noindex
X-PUBLISHED-TTL:PT1H
BEGIN:VTIMEZONE
TZID:UTC
BEGIN:STANDARD
TZOFFSETFROM:+0000
TZOFFSETTO:+0000
TZNAME:UTC
DTSTART:20240101T000000
END:STANDARD
END:VTIMEZONE
BEGIN:VEVENT
DTSTART;TZID=UTC:20251011T100000
DTEND;TZID=UTC:20251011T140000
DTSTAMP:20260421T004328
CREATED:20251002T192519Z
LAST-MODIFIED:20251002T192519Z
UID:815-1760176800-1760191200@henrytrimbleanimalshelter.com
SUMMARY:Cedar Lake Fall Stroll
DESCRIPTION:🍁 Come See Us at the Cedar Lake Fall Stroll! 🍁 \nHenry Trimble Animal Shelter is excited to be part of the inaugural Cedar Lake Stroll on Saturday\, October 11 — and we’re bringing some of our adorable adoptable dogs with us! 🐶💕 \nThis FREE\, family-friendly fall celebration is all about community\, inclusion\, and supporting individuals with intellectual and developmental disabilities — and we’re honored to be a part of it. \n🎉 What to Expect at the Event:✅ All-abilities walk to celebrate and support the Cedar Lake community✅ Music\, food trucks\, and fun fall activities✅ An Artists Village showcasing handcrafted creations from individuals supported by Cedar Lake✅ Our booth with shelter info\, volunteer opportunities\, and lovable pups looking for forever homes! \nWhether you’re walking\, cheering\, or just stopping by to say hi — we’d love to see you! \n📍 Cedar Lake Fall Stroll – 3301 Jericho Rd📅 Saturday\, October 11 – 10am – 2pm💛 Free & open to all ages and abilities \nCome enjoy the fall fun — and maybe fall in love with your new best friend! 🐾🍂
URL:https://henrytrimbleanimalshelter.com/event/cedar-lake-fall-stroll/
LOCATION:Cedar Lake\, 3301 Jericho Rd\, LaGrange\, KY\, 40031\, United States
CATEGORIES:Adoption Events
ATTACH;FMTTYPE=image/png:https://henrytrimbleanimalshelter.com/wp-content/uploads/2025/10/Screenshot-from-2025-10-02-15-20-49.png
END:VEVENT
BEGIN:VEVENT
DTSTART;TZID=UTC:20251012T140000
DTEND;TZID=UTC:20251012T180000
DTSTAMP:20260421T004328
CREATED:20250727T155003Z
LAST-MODIFIED:20250727T160415Z
UID:693-1760277600-1760292000@henrytrimbleanimalshelter.com
SUMMARY:Bark & Whine - October 12
DESCRIPTION:Join us for an afternoon of food\, fun\, and fundraising benefiting the Henry/Trimble County Animal Shelter at beautiful Richwood on the River. Our event will feature Ethan Almighty’s photo booth\, food trucks\, vendors\, a silent auction\, live entertainment\, wine tasting\, and adoptable pets.\n*Tickets will be available soon and we are accepting silent auction items now.*Donations are always welcome!
URL:https://henrytrimbleanimalshelter.com/event/bark-whine/
LOCATION:Richwood on the River\, 1233 KY-36\, Milton\, KY\, 40045\, United States
CATEGORIES:Adoption Events,Fundraisers
ATTACH;FMTTYPE=image/jpeg:https://henrytrimbleanimalshelter.com/wp-content/uploads/2025/07/bark-whine.jpg
END:VEVENT
END:VCALENDAR