BEGIN:VCALENDAR
VERSION:2.0
PRODID:-//Henry Trimble Animal Shelter - ECPv6.15.19//NONSGML v1.0//EN
CALSCALE:GREGORIAN
METHOD:PUBLISH
X-ORIGINAL-URL:https://henrytrimbleanimalshelter.com
X-WR-CALDESC:Events for Henry Trimble Animal Shelter
REFRESH-INTERVAL;VALUE=DURATION:PT1H
X-Robots-Tag:noindex
X-PUBLISHED-TTL:PT1H
BEGIN:VTIMEZONE
TZID:UTC
BEGIN:STANDARD
TZOFFSETFROM:+0000
TZOFFSETTO:+0000
TZNAME:UTC
DTSTART:20240101T000000
END:STANDARD
END:VTIMEZONE
BEGIN:VEVENT
DTSTART;TZID=UTC:20250913T100000
DTEND;TZID=UTC:20250913T140000
DTSTAMP:20260420T232958
CREATED:20250910T143131Z
LAST-MODIFIED:20250910T143131Z
UID:797-1757757600-1757772000@henrytrimbleanimalshelter.com
SUMMARY:Tractor Supply Farmers Market Event
DESCRIPTION:Come see us this weekend!  \n\n\n\nHenry Trimble Animal Shelter will have a booth at the Tractor Supply Farmers Market Event on Saturday\, September 13th from 10 AM – 2 PM  \n\n\n\n 2003 Priest Dr\, La Grange\, KY 40031 \n\n\n\n Meet some of our adoptable dogs looking for their forever homes\n Shop our shelter t-shirts (proceeds go to support our pups!) \n\n\n\nStop by\, say hello\, and support your local shelter. We can’t wait to see you there!
URL:https://henrytrimbleanimalshelter.com/event/tractor-supply-farmers-market-event/
LOCATION:Tractor Supply\, 2003 Priest Dr\, LaGrange\, KY\, 40031\, United States
ATTACH;FMTTYPE=image/png:https://henrytrimbleanimalshelter.com/wp-content/uploads/2025/09/tractorsupply-farmersmarket.png
END:VEVENT
END:VCALENDAR